Workbook

Sheet Chart of Accounts
A1: Account Number | B1: Account Name | C1: Account Type | D1: Normal Balance
A2: 1000 | B2: Cash - Operating | C2: Asset | D2: Debit
A3: 1010 | B3: Cash - Payroll | C3: Asset | D3: Debit
A4: 1020 | B4: Cash - Money Market/Reserve | C4: Asset | D4: Debit
A5: 1100 | B5: Accounts Receivable - License | C5: Asset | D5: Debit
A6: 1110 | B6: Accounts Receivable - Development | C6: Asset | D6: Debit
A7: 1150 | B7: Accrued Income - License | C7: Asset | D7: Debit
A8: 1160 | B8: Accrued Income - Development | C8: Asset | D8: Debit
A9: 1200 | B9: Prepaid Expenses | C9: Asset | D9: Debit
A10: 1300 | B10: Property and Equipment | C10: Asset | D10: Debit
A11: 1310 | B11: Accumulated Depreciation | C11: Asset | D11: Credit
A12: 1400 | B12: Software, Construction in Progress | C12: Asset | D12: Debit
A13: 1410 | B13: Capitalized Software | C13: Asset | D13: Debit
... A53: 5950 | B53: Miscellaneous Expense | C53: Expense | D53: Debit

Sheet Contract Master List
A1: Opportunity ID | B1: Contract Number | C1: Account Name | D1: Account Type | E1: Opportunity Name | F1: Stage | G1: Revenue Type | H1: Signed? | I1: Contract Amount | J1: Total Estimated Cost | K1: Probability (%) | L1: Close Date | M1: Contract Start Date | N1: Contract End Date | O1: Term (Months) | P1: Owner | Q1: Forecast Category | R1: Lead Source | S1: Next Step | T1: Created Date | U1: Last Modified Date | V1: Beginning Fiscal Year | W1: Ending Fiscal Year | X1: Revenue Type | Y1: Recognition Method | Z1: Billing Terms | AC1: Costs Incurred to Date | AD1: Amount Invoiced to Date | AE1: Revenue Recognized to Date | AF1: Deferred Revenue Balance | AG1: Accrued Income Balance | AH1: % Complete | AI1: Completion Basis | AJ1: Invoice Required? | AK1: Invoice Frequency | AL1: Last Invoice Date | AM1: Last Invoice Number | AN1: Last Invoice Amount | AO1: Payment Terms | AP1: Amount Paid to Date | AQ1: Unpaid Balance
A2: OPP-10027 | C2: Cook County Department of Public Health (IL) | D2: County Government | E2: EHR License - County Deployment | F2: Closed Lost | G2: New Business - License | H2: No | I2: 0 | K2: 0 | L2: 2023-11-27 | P2: R. Chen | Q2: Omitted | R2: Cold Outreach | S2: Lost to incumbent vendor | T2: 2023-08-21 | U2: 2023-11-27 | X2: License | Y2: N/A | Z2: N/A | AD2: 0 | AE2: 0 | AF2: 0 | AG2: 0 | AH2: N/A | AI2: N/A | AJ2: Yes | AK2: N/A | AN2: 0 | AO2: N/A | AP2: 0
A3: OPP-10029 | C3: Illinois Department of Public Health | D3: State Government | E3: EHR License - County Deployment | F3: Closed Lost | G3: New Business - License | H3: No | I3: 0 | K3: 0 | L3: 2023-11-29 | P3: K. Whitfield | Q3: Omitted | R3: Existing Customer | S3: Project deferred to next fiscal year | T3: 2023-07-18 | U3: 2023-11-29 | X3: License | Y3: N/A | Z3: N/A | AD3: 0 | AE3: 0 | AF3: 0 | AG3: 0 | AH3: N/A | AI3: N/A | AJ3: Yes | AK3: N/A | AN3: 0 | AO3: N/A | AP3: 0
A4: OPP-10028 | C4: Cook County Department of Public Health (IL) | D4: County Government | E4: EHR Platform License | F4: Closed Lost | G4: New Business - License | H4: No | I4: 0 | K4: 0 | L4: 2024-04-26 | P4: M. Torres | Q4: Omitted | R4: RFP Response | S4: Budget not approved | T4: 2023-12-01 | U4: 2024-04-26 | X4: License | Y4: N/A | Z4: N/A | AD4: 0 | AE4: 0 | AF4: 0 | AG4: 0 | AH4: N/A | AI4: N/A | AJ4: Yes | AK4: N/A | AN4: 0 | AO4: N/A | AP4: 0
A5: OPP-10030 | C5: Fulton County Board of Health (GA) | D5: County Government | E5: EHR Platform License | F5: Closed Lost | G5: New Business - License | H5: No | I5: 0 | K5: 0 | L5: 2024-01-21 | P5: K. Whitfield | Q5: Omitted | R5: Partner Referral | S5: Selected competing solution | T5: 2023-08-02 | U5: 2024-01-21 | X5: License | Y5: N/A | Z5: N/A | AD5: 0 | AE5: 0 | AF5: 0 | AG5: 0 | AH5: N/A | AI5: N/A | AJ5: Yes | AK5: N/A | AN5: 0 | AO5: N/A | AP5: 0
A6: OPP-10031 | C6: The California Endowment | D6: Foundation | E6: Social Determinants of Health Module - New Development | F6: Closed Lost | G6: New Business - Development | H6: No | I6: 0 | K6: 0 | L6: 2024-03-07 | P6: R. Chen | Q6: Omitted | R6: Conference Lead | S6: Project deferred to next fiscal year | T6: 2023-09-12 | U6: 2024-03-07 | X6: Development | Y6: N/A | Z6: N/A | AD6: 0 | AE6: 0 | AF6: 0 | AG6: 0 | AH6: N/A | AI6: N/A | AJ6: No | AK6: N/A | AN6: 0 | AO6: N/A | AP6: 0
A7: OPP-10032 | C7: Commonwealth Fund | D7: Foundation | E7: Behavioral Health Data Exchange - New Development | F7: Closed Lost | G7: New Business - Development | H7: No | I7: 0 | K7: 0 | L7: 2024-02-05 | P7: J. Alvarez | Q7: Omitted | R7: Existing Customer | S7: Selected competing solution | T7: 2023-09-20 | U7: 2024-02-05 | X7: Development | Y7: N/A | Z7: N/A | AD7: 0 | AE7: 0 | AF7: 0 | AG7: 0 | AH7: N/A | AI7: N/A | AJ7: No | AK7: N/A | AN7: 0 | AO7: N/A | AP7: 0
A8: OPP-10033 | C8: Robert Wood Johnson Foundation | D8: Foundation | E8: Opioid Surveillance Dashboard - New Development | F8: Closed Lost | G8: New Business - Development | H8: No | I8: 0 | K8: 0 | L8: 2024-02-10 | P8: S. Park | Q8: Omitted | R8: Referral | S8: Lost to incumbent vendor | T8: 2023-10-08 | U8: 2024-02-10 | X8: Development | Y8: N/A | Z8: N/A | AD8: 0 | AE8: 0 | AF8: 0 | AG8: 0 | AH8: N/A | AI8: N/A | AJ8: No | AK8: N/A | AN8: 0 | AO8: N/A | AP8: 0
A9: OPP-10061 | C9: Harris County Public Health (TX) | D9: County Government | E9: EHR Platform License | F9: Closed Lost | G9: New Business - License | H9: No | I9: 0 | K9: 0 | L9: 2024-11-20 | P9: R. Chen | Q9: Omitted | R9: Cold Outreach | S9: Lost to incumbent vendor | T9: 2024-08-07 | U9: 2024-11-20 | X9: License | Y9: N/A | Z9: N/A | AD9: 0 | AE9: 0 | AF9: 0 | AG9: 0 | AH9: N/A | AI9: N/A | AJ9: Yes | AK9: N/A | AN9: 0 | AO9: N/A | AP9: 0
A10: OPP-10063 | C10: Harris County Public Health (TX) | D10: County Government | E10: EHR License - Multi-Site Expansion | F10: Closed Lost | G10: New Business - License | H10: No | I10: 0 | K10: 0 | L10: 2024-08-01 | P10: S. Park | Q10: Omitted | R10: Partner Referral | S10: Project deferred to next fiscal year | T10: 2024-02-10 | U10: 2024-08-01 | X10: License | Y10: N/A | Z10: N/A | AD10: 0 | AE10: 0 | AF10: 0 | AG10: 0 | AH10: N/A | AI10: N/A | AJ10: Yes | AK10: N/A | AN10: 0 | AO10: N/A | AP10: 0
A11: OPP-10064 | C11: Colorado Department of Public Health and Environment | D11: State Government | E11: EHR License - Multi-Site Expansion | F11: Closed Lost | G11: New Business - License | H11: No | I11: 0 | K11: 0 | L11: 2024-10-30 | P11: S. Park | Q11: Omitted | R11: Cold Outreach | S11: Budget not approved | T11: 2024-06-07 | U11: 2024-10-30 | X11: License | Y11: N/A | Z11: N/A | AD11: 0 | AE11: 0 | AF11: 0 | AG11: 0 | AH11: N/A | AI11: N/A | AJ11: Yes | AK11: N/A | AN11: 0 | AO11: N/A | AP11: 0
A12: OPP-10065 | C12: Maricopa County Department of Public Health (AZ) | D12: County Government | E12: EHR License - County Deployment | F12: Closed Lost | G12: New Business - License | H12: No | I12: 0 | K12: 0 | L12: 2024-10-21 | P12: K. Whitfield | Q12: Omitted | R12: Referral | S12: Project deferred to next fiscal year | T12: 2024-08-21 | U12: 2024-10-21 | X12: License | Y12: N/A | Z12: N/A | AD12: 0 | AE12: 0 | AF12: 0 | AG12: 0 | AH12: N/A | AI12: N/A | AJ12: Yes | AK12: N/A | AN12: 0 | AO12: N/A | AP12: 0
A13: OPP-10067 | C13: Commonwealth Fund | D13: Foundation | E13: School Health Records Integration - New Development | F13: Closed Lost | G13: New Business - Development | H13: No | I13: 0 | K13: 0 | L13: 2024-10-26 | P13: M. Torres | Q13: Omitted | R13: Referral | S13: Budget not approved | T13: 2024-07-10 | U13: 2024-10-26 | X13: Development | Y13: N/A | Z13: N/A | AD13: 0 | AE13: 0 | AF13: 0 | AG13: 0 | AH13: N/A | AI13: N/A | AJ13: No | AK13: N/A | AN13: 0 | AO13: N/A | AP13: 0
... A27: OPP-10104 | C27: Susan and Michael Dell Foundation | D27: Foundation | E27: School Health Records Integration - New Development | F27: Closed Lost | G27: New Business - Development | H27: No | I27: 0 | K27: 0 | L27: 2025-08-30 | P27: J. Alvarez | Q27: Omitted | R27: Existing Relationship | S27: Lost to incumbent vendor | T27: 2025-06-30 | U27: 2025-08-30 | X27: Development | Y27: N/A | Z27: N/A | AD27: 0 | AE27: 0 | AF27: 0 | AG27: 0 | AH27: N/A | AI27: N/A | AJ27: No | AK27: N/A | AN27: 0 | AO27: N/A | AP27: 0
A28: OPP-10123 | C28: Susan and Michael Dell Foundation | D28: Foundation | E28: Community Health Worker Mobile App - New Development | F28: Proposal/Price Quote | G28: New Business - Development | H28: No | I28: 150000 | K28: 50 | L28: 2026-02-23 | M28: 2026-03-01 | N28: 2027-03-31 | O28: =DATEDIF(M28,N28,"m") -> 12 | P28: R. Chen | Q28: Pipeline | R28: Referral | S28: Send updated pricing proposal | T28: 2025-09-29 | U28: 2025-11-16 | V28: ="FY"&YEAR(M28) -> FY2026 | W28: ="FY"&YEAR(N28) -> FY2027 | X28: Development | Y28: Percentage of Completion | AD28: 0 | AE28: 0 | AF28: 0 | AG28: 0 | AH28: 0 | AI28: Cost-to-Cost | AJ28: No | AK28: Draw Request | AN28: 0 | AO28: Per Grant Agreement | AP28: 0
A29: OPP-10124 | C29: The California Endowment | D29: Foundation | E29: School Health Records Integration - New Development | F29: Proposal/Price Quote | G29: New Business - Development | H29: No | I29: 220000 | K29: 49 | L29: 2026-03-17 | M29: 2026-04-01 | N29: 2027-04-30 | O29: =DATEDIF(M29,N29,"m") -> 12 | P29: M. Torres | Q29: Pipeline | R29: RFP Response | S29: Send updated pricing proposal | T29: 2025-06-08 | U29: 2025-11-15 | V29: ="FY"&YEAR(M29) -> FY2026 | W29: ="FY"&YEAR(N29) -> FY2027 | X29: Development | Y29: Percentage of Completion | AD29: 0 | AE29: 0 | AF29: 0 | AG29: 0 | AH29: 0 | AI29: Cost-to-Cost | AJ29: No | AK29: Draw Request | AN29: 0 | AO29: Per Grant Agreement | AP29: 0
A30: OPP-10109 | C30: Robert Wood Johnson Foundation | D30: Foundation | E30: Maternal Health Registry - New Development | F30: Proposal/Price Quote | G30: New Business - Development | H30: No | I30: 95000 | K30: 58 | L30: 2026-02-25 | M30: 2026-03-01 | N30: 2027-09-30 | O30: =DATEDIF(M30,N30,"m") -> 18 | P30: R. Chen | Q30: Pipeline | R30: Partner Referral | S30: Send updated pricing proposal | T30: 2025-08-24 | U30: 2025-11-24 | V30: ="FY"&YEAR(M30) -> FY2026 | W30: ="FY"&YEAR(N30) -> FY2027 | X30: Development | Y30: Percentage of Completion | AD30: 0 | AE30: 0 | AF30: 0 | AG30: 0 | AH30: 0 | AI30: Cost-to-Cost | AJ30: No | AK30: Draw Request | AN30: 0 | AO30: Per Grant Agreement | AP30: 0
A31: OPP-10125 | C31: Susan and Michael Dell Foundation | D31: Foundation | E31: Behavioral Health Data Exchange - New Development | F31: Proposal/Price Quote | G31: New Business - Development | H31: No | I31: 150000 | K31: 60 | L31: 2026-05-21 | M31: 2026-06-01 | N31: 2027-12-31 | O31: =DATEDIF(M31,N31,"m") -> 18 | P31: M. Torres | Q31: Pipeline | R31: RFP Response | S31: Send updated pricing proposal | T31: 2025-10-29 | U31: 2025-11-18 | V31: ="FY"&YEAR(M31) -> FY2026 | W31: ="FY"&YEAR(N31) -> FY2027 | X31: Development | Y31: Percentage of Completion | AD31: 0 | AE31: 0 | AF31: 0 | AG31: 0 | AH31: 0 | AI31: Cost-to-Cost | AJ31: No | AK31: Draw Request | AN31: 0 | AO31: Per Grant Agreement | AP31: 0
A32: OPP-10106 | C32: Maricopa County Department of Public Health (AZ) | D32: County Government | E32: EHR License - County Deployment | F32: Qualification | G32: New Business - License | H32: No | I32: 1200000 | K32: 26 | L32: 2026-01-13 | M32: 2026-02-01 | N32: 2028-02-29 | O32: =DATEDIF(M32,N32,"m") -> 24 | P32: K. Whitfield | Q32: Pipeline | R32: Existing Relationship | S32: Schedule technical scoping call | T32: 2025-07-13 | U32: 2025-11-10 | V32: ="FY"&YEAR(M32) -> FY2026 | W32: ="FY"&YEAR(N32) -> FY2028 | X32: License | Y32: Ratable - Straight Line | AD32: 0 | AE32: 0 | AF32: 0 | AG32: 0 | AH32: N/A | AI32: N/A | AJ32: Yes | AN32: 0 | AO32: Net 45 | AP32: 0
A33: OPP-10107 | C33: Maricopa County Department of Public Health (AZ) | D33: County Government | E33: EHR Platform License - Statewide Rollout | F33: Negotiation/Review | G33: New Business - License | H33: No | I33: 1200000 | K33: 83 | L33: 2026-01-20 | M33: 2026-02-01 | N33: 2028-02-29 | O33: =DATEDIF(M33,N33,"m") -> 24 | P33: J. Alvarez | Q33: Best Case | R33: Cold Outreach | S33: Legal reviewing final contract redlines | T33: 2025-08-10 | U33: 2025-11-18 | V33: ="FY"&YEAR(M33) -> FY2026 | W33: ="FY"&YEAR(N33) -> FY2028 | X33: License | Y33: Ratable - Straight Line | AD33: 0 | AE33: 0 | AF33: 0 | AG33: 0 | AH33: N/A | AI33: N/A | AJ33: Yes | AN33: 0 | AO33: Net 45 | AP33: 0
A34: OPP-10121 | C34: The California Endowment | D34: Foundation | E34: Social Determinants of Health Module - New Development | F34: Negotiation/Review | G34: New Business - Development | H34: No | I34: 95000 | K34: 78 | L34: 2026-03-13 | M34: 2026-04-01 | N34: 2028-04-30 | O34: =DATEDIF(M34,N34,"m") -> 24 | P34: S. Park | Q34: Best Case | R34: RFP Response | S34: Legal reviewing final contract redlines | T34: 2025-07-10 | U34: 2025-11-26 | V34: ="FY"&YEAR(M34) -> FY2026 | W34: ="FY"&YEAR(N34) -> FY2028 | X34: Development | Y34: Percentage of Completion | AD34: 0 | AE34: 0 | AF34: 0 | AG34: 0 | AH34: 0 | AI34: Cost-to-Cost | AJ34: No | AK34: Draw Request | AN34: 0 | AO34: Per Grant Agreement | AP34: 0
A35: OPP-10112 | C35: Colorado Department of Public Health and Environment | D35: State Government | E35: EHR License Renewal | F35: Qualification | G35: New Business - License | H35: No | I35: 850000 | K35: 25 | L35: 2026-05-06 | M35: 2026-06-01 | N35: 2028-06-30 | O35: =DATEDIF(M35,N35,"m") -> 24 | P35: M. Torres | Q35: Pipeline | R35: Conference Lead | S35: Schedule technical scoping call | T35: 2025-07-09 | U35: 2025-11-19 | V35: ="FY"&YEAR(M35) -> FY2026 | W35: ="FY"&YEAR(N35) -> FY2028 | X35: License | Y35: Ratable - Straight Line | AD35: 0 | AE35: 0 | AF35: 0 | AG35: 0 | AH35: N/A | AI35: N/A | AJ35: Yes | AN35: 0 | AO35: Net 45 | AP35: 0
A36: OPP-10108 | C36: Ohio Department of Health | D36: State Government | E36: EHR License - Multi-Site Expansion | F36: Qualification | G36: New Business - License | H36: No | I36: 275000 | K36: 36 | L36: 2025-12-24 | M36: 2026-01-01 | N36: 2029-01-31 | O36: =DATEDIF(M36,N36,"m") -> 36 | P36: R. Chen | Q36: Pipeline | R36: Referral | S36: Schedule technical scoping call | T36: 2025-08-30 | U36: 2025-11-27 | V36: ="FY"&YEAR(M36) -> FY2026 | W36: ="FY"&YEAR(N36) -> FY2029 | X36: License | Y36: Ratable - Straight Line | AD36: 0 | AE36: 0 | AF36: 0 | AG36: 0 | AH36: N/A | AI36: N/A | AJ36: Yes | AN36: 0 | AO36: Net 45 | AP36: 0
A37: OPP-10117 | C37: Robert Wood Johnson Foundation | D37: Foundation | E37: EHR Interoperability Module - New Development | F37: Proposal/Price Quote | G37: New Business - Development | H37: No | I37: 580000 | K37: 61 | L37: 2026-01-28 | M37: 2026-02-01 | N37: 2029-02-28 | O37: =DATEDIF(M37,N37,"m") -> 36 | P37: S. Park | Q37: Pipeline | R37: Partner Referral | S37: Send updated pricing proposal | T37: 2025-08-21 | U37: 2025-11-09 | V37: ="FY"&YEAR(M37) -> FY2026 | W37: ="FY"&YEAR(N37) -> FY2029 | X37: Development | Y37: Percentage of Completion | AD37: 0 | AE37: 0 | AF37: 0 | AG37: 0 | AH37: 0 | AI37: Cost-to-Cost | AJ37: No | AK37: Draw Request | AN37: 0 | AO37: Per Grant Agreement | AP37: 0
A38: OPP-10110 | C38: Harris County Public Health (TX) | D38: County Government | E38: EHR Platform License - Statewide Rollout | F38: Negotiation/Review | G38: New Business - License | H38: No | I38: 210000 | K38: 90 | L38: 2026-02-08 | M38: 2026-03-01 | N38: 2029-03-31 | O38: =DATEDIF(M38,N38,"m") -> 36 | P38: R. Chen | Q38: Best Case | R38: Existing Relationship | S38: Legal reviewing final contract redlines | T38: 2025-09-16 | U38: 2025-11-23 | V38: ="FY"&YEAR(M38) -> FY2026 | W38: ="FY"&YEAR(N38) -> FY2029 | X38: License | Y38: Ratable - Straight Line | AD38: 0 | AE38: 0 | AF38: 0 | AG38: 0 | AH38: N/A | AI38: N/A | AJ38: Yes | AN38: 0 | AO38: Net 45 | AP38: 0
A39: OPP-10126 | C39: Maricopa County Department of Public Health (AZ) | D39: County Government | E39: EHR License - Multi-Site Expansion | F39: Qualification | G39: New Business - License | H39: No | I39: 2100000 | K39: 25 | L39: 2026-02-08 | M39: 2026-03-01 | N39: 2029-03-31 | O39: =DATEDIF(M39,N39,"m") -> 36 | P39: K. Whitfield | Q39: Pipeline | R39: Referral | S39: Schedule technical scoping call | T39: 2025-07-07 | U39: 2025-11-11 | V39: ="FY"&YEAR(M39) -> FY2026 | W39: ="FY"&YEAR(N39) -> FY2029 | X39: License | Y39: Ratable - Straight Line | AD39: 0 | AE39: 0 | AF39: 0 | AG39: 0 | AH39: N/A | AI39: N/A | AJ39: Yes | AN39: 0 | AO39: Net 45 | AP39: 0
A40: OPP-10119 | C40: Fulton County Board of Health (GA) | D40: County Government | E40: EHR Platform License | F40: Proposal/Price Quote | G40: New Business - License | H40: No | I40: 2100000 | K40: 57 | L40: 2026-03-25 | M40: 2026-04-01 | N40: 2029-04-30 | O40: =DATEDIF(M40,N40,"m") -> 36 | P40: J. Alvarez | Q40: Pipeline | R40: Existing Customer | S40: Send updated pricing proposal | T40: 2025-10-27 | U40: 2025-11-21 | V40: ="FY"&YEAR(M40) -> FY2026 | W40: ="FY"&YEAR(N40) -> FY2029 | X40: License | Y40: Ratable - Straight Line | AD40: 0 | AE40: 0 | AF40: 0 | AG40: 0 | AH40: N/A | AI40: N/A | AJ40: Yes | AN40: 0 | AO40: Net 45 | AP40: 0
A41: OPP-10105 | C41: Susan and Michael Dell Foundation | D41: Foundation | E41: Immunization Tracking Extension - New Development | F41: Proposal/Price Quote | G41: New Business - Development | H41: No | I41: 580000 | K41: 57 | L41: 2026-04-06 | M41: 2026-05-01 | N41: 2029-05-31 | O41: =DATEDIF(M41,N41,"m") -> 36 | P41: M. Torres | Q41: Pipeline | R41: Existing Relationship | S41: Send updated pricing proposal | T41: 2025-08-18 | U41: 2025-11-18 | V41: ="FY"&YEAR(M41) -> FY2026 | W41: ="FY"&YEAR(N41) -> FY2029 | X41: Development | Y41: Percentage of Completion | AD41: 0 | AE41: 0 | AF41: 0 | AG41: 0 | AH41: 0 | AI41: Cost-to-Cost | AJ41: No | AK41: Draw Request | AN41: 0 | AO41: Per Grant Agreement | AP41: 0
A42: OPP-10122 | C42: Illinois Department of Public Health | D42: State Government | E42: EHR Platform License - Regional Deployment | F42: Proposal/Price Quote | G42: New Business - License | H42: No | I42: 275000 | K42: 57 | L42: 2026-05-04 | M42: 2026-06-01 | N42: 2029-06-30 | O42: =DATEDIF(M42,N42,"m") -> 36 | P42: M. Torres | Q42: Pipeline | R42: RFP Response | S42: Send updated pricing proposal | T42: 2025-10-27 | U42: 2025-11-19 | V42: ="FY"&YEAR(M42) -> FY2026 | W42: ="FY"&YEAR(N42) -> FY2029 | X42: License | Y42: Ratable - Straight Line | AD42: 0 | AE42: 0 | AF42: 0 | AG42: 0 | AH42: N/A | AI42: N/A | AJ42: Yes | AN42: 0 | AO42: Net 45 | AP42: 0
A43: OPP-10118 | C43: Denver Public Health (CO) | D43: County Government | E43: EHR Platform License - Regional Deployment | F43: Qualification | G43: New Business - License | H43: No | I43: 850000 | K43: 24 | L43: 2026-01-03 | M43: 2026-02-01 | N43: 2030-02-28 | O43: =DATEDIF(M43,N43,"m") -> 48 | P43: M. Torres | Q43: Pipeline | R43: Partner Referral | S43: Schedule technical scoping call | T43: 2025-08-30 | U43: 2025-11-10 | V43: ="FY"&YEAR(M43) -> FY2026 | W43: ="FY"&YEAR(N43) -> FY2030 | X43: License | Y43: Ratable - Straight Line | AD43: 0 | AE43: 0 | AF43: 0 | AG43: 0 | AH43: N/A | AI43: N/A | AJ43: Yes | AN43: 0 | AO43: Net 45 | AP43: 0
A44: OPP-10115 | C44: Franklin County Department of Health (OH) | D44: County Government | E44: EHR Platform License | F44: Qualification | G44: New Business - License | H44: No | I44: 210000 | K44: 30 | L44: 2026-02-28 | M44: 2026-03-01 | N44: 2030-03-31 | O44: =DATEDIF(M44,N44,"m") -> 48 | P44: J. Alvarez | Q44: Pipeline | R44: Partner Referral | S44: Schedule technical scoping call | T44: 2025-07-05 | U44: 2025-11-09 | V44: ="FY"&YEAR(M44) -> FY2026 | W44: ="FY"&YEAR(N44) -> FY2030 | X44: License | Y44: Ratable - Straight Line | AD44: 0 | AE44: 0 | AF44: 0 | AG44: 0 | AH44: N/A | AI44: N/A | AJ44: Yes | AN44: 0 | AO44: Net 45 | AP44: 0
A45: OPP-10114 | C45: Arizona Department of Health Services | D45: State Government | E45: EHR License Renewal | F45: Qualification | G45: New Business - License | H45: No | I45: 210000 | K45: 25 | L45: 2025-12-20 | M45: 2026-01-01 | N45: 2031-01-31 | O45: =DATEDIF(M45,N45,"m") -> 60 | P45: R. Chen | Q45: Pipeline | R45: Conference Lead | S45: Schedule technical scoping call | T45: 2025-07-01 | U45: 2025-11-27 | V45: ="FY"&YEAR(M45) -> FY2026 | W45: ="FY"&YEAR(N45) -> FY2031 | X45: License | Y45: Ratable - Straight Line | AD45: 0 | AE45: 0 | AF45: 0 | AG45: 0 | AH45: N/A | AI45: N/A | AJ45: Yes | AN45: 0 | AO45: Net 45 | AP45: 0
A46: OPP-10116 | C46: Harris County Public Health (TX) | D46: County Government | E46: EHR Platform License - Statewide Rollout | F46: Proposal/Price Quote | G46: New Business - License | H46: No | I46: 320000 | K46: 55 | L46: 2025-12-31 | M46: 2026-01-01 | N46: 2031-01-31 | O46: =DATEDIF(M46,N46,"m") -> 60 | P46: J. Alvarez | Q46: Pipeline | R46: Referral | S46: Send updated pricing proposal | T46: 2025-10-09 | U46: 2025-11-21 | V46: ="FY"&YEAR(M46) -> FY2026 | W46: ="FY"&YEAR(N46) -> FY2031 | X46: License | Y46: Ratable - Straight Line | AD46: 0 | AE46: 0 | AF46: 0 | AG46: 0 | AH46: N/A | AI46: N/A | AJ46: Yes | AN46: 0 | AO46: Net 45 | AP46: 0
A47: OPP-10111 | C47: Harris County Public Health (TX) | D47: County Government | E47: EHR Platform License - Regional Deployment | F47: Qualification | G47: New Business - License | H47: No | I47: 850000 | K47: 34 | L47: 2026-02-15 | M47: 2026-03-01 | N47: 2031-03-31 | O47: =DATEDIF(M47,N47,"m") -> 60 | P47: J. Alvarez | Q47: Pipeline | R47: Partner Referral | S47: Schedule technical scoping call | T47: 2025-09-10 | U47: 2025-11-13 | V47: ="FY"&YEAR(M47) -> FY2026 | W47: ="FY"&YEAR(N47) -> FY2031 | X47: License | Y47: Ratable - Straight Line | AD47: 0 | AE47: 0 | AF47: 0 | AG47: 0 | AH47: N/A | AI47: N/A | AJ47: Yes | AN47: 0 | AO47: Net 45 | AP47: 0
A48: OPP-10113 | C48: Illinois Department of Public Health | D48: State Government | E48: EHR License - Multi-Site Expansion | F48: Qualification | G48: New Business - License | H48: No | I48: 210000 | K48: 38 | L48: 2026-03-27 | M48: 2026-04-01 | N48: 2031-04-30 | O48: =DATEDIF(M48,N48,"m") -> 60 | P48: K. Whitfield | Q48: Pipeline | R48: Partner Referral | S48: Schedule technical scoping call | T48: 2025-06-13 | U48: 2025-11-27 | V48: ="FY"&YEAR(M48) -> FY2026 | W48: ="FY"&YEAR(N48) -> FY2031 | X48: License | Y48: Ratable - Straight Line | AD48: 0 | AE48: 0 | AF48: 0 | AG48: 0 | AH48: N/A | AI48: N/A | AJ48: Yes | AN48: 0 | AO48: Net 45 | AP48: 0
A49: OPP-10120 | C49: Georgia Department of Public Health | D49: State Government | E49: EHR Platform License - Regional Deployment | F49: Negotiation/Review | G49: New Business - License | H49: No | I49: 850000 | K49: 76 | L49: 2026-03-16 | M49: 2026-04-01 | N49: 2031-04-30 | O49: =DATEDIF(M49,N49,"m") -> 60 | P49: K. Whitfield | Q49: Best Case | R49: Existing Relationship | S49: Legal reviewing final contract redlines | T49: 2025-08-09 | U49: 2025-11-13 | V49: ="FY"&YEAR(M49) -> FY2026 | W49: ="FY"&YEAR(N49) -> FY2031 | X49: License | Y49: Ratable - Straight Line | AD49: 0 | AE49: 0 | AF49: 0 | AG49: 0 | AH49: N/A | AI49: N/A | AJ49: Yes | AN49: 0 | AO49: Net 45 | AP49: 0
A50: OPP-10023 | B50: GRT-2024-2172 | C50: Susan and Michael Dell Foundation | D50: Foundation | E50: Maternal Health Registry - New Development | F50: Closed Won | G50: Expansion - Grant | H50: Yes | I50: 850000 | J50: 591964.01 | K50: 100 | L50: 2023-08-05 | M50: 2023-09-01 | N50: 2024-09-30 | O50: =DATEDIF(M50,N50,"m") -> 12 | P50: R. Chen | Q50: Closed | R50: Existing Customer | T50: 2023-03-03 | U50: 2023-08-05 | V50: ="FY"&YEAR(M50) -> FY2023 | W50: ="FY"&YEAR(N50) -> FY2024 | X50: Development | Y50: Percentage of Completion | Z50: Billed per milestone completion | AC50: 591964.01 | AD50: 850000 | AE50: 850000 | AF50: 0 | AG50: 0 | AH50: 100 | AI50: Cost-to-Cost | AJ50: No | AK50: Draw Request | AN50: 0 | AO50: Per Grant Agreement | AP50: 850000 | AQ50: =AD50-AP50 -> 0
A51: OPP-10018 | B51: GRT-2024-1802 | C51: Kresge Foundation | D51: Foundation | E51: Immunization Tracking Extension - New Development | F51: Closed Won | G51: New Business - Grant | H51: Yes | I51: 220000 | J51: 155457.3 | K51: 100 | L51: 2023-08-22 | M51: 2023-09-01 | N51: 2025-03-31 | O51: =DATEDIF(M51,N51,"m") -> 18 | P51: S. Park | Q51: Closed | R51: Referral | T51: 2023-04-08 | U51: 2023-08-22 | V51: ="FY"&YEAR(M51) -> FY2023 | W51: ="FY"&YEAR(N51) -> FY2025 | X51: Development | Y51: Percentage of Completion | Z51: Billed per milestone completion | AC51: 155457.3 | AD51: 220000 | AE51: 220000 | AF51: 0 | AG51: 0 | AH51: 100 | AI51: Cost-to-Cost | AJ51: No | AK51: Draw Request | AN51: 0 | AO51: Per Grant Agreement | AP51: 220000 | AQ51: =AD51-AP51 -> 0
A52: OPP-10007 | B52: LIC-FC-2024-140 | C52: Franklin County Department of Health (OH) | D52: County Government | E52: EHR License - Multi-Site Expansion | F52: Closed Won | G52: Renewal - License | H52: Yes | I52: 185000 | K52: 100 | L52: 2023-07-07 | M52: 2023-08-01 | N52: 2025-08-31 | O52: =DATEDIF(M52,N52,"m") -> 24 | P52: K. Whitfield | Q52: Closed | R52: Referral | T52: 2023-02-17 | U52: 2023-07-07 | V52: ="FY"&YEAR(M52) -> FY2023 | W52: ="FY"&YEAR(N52) -> FY2025 | X52: License | Y52: Ratable - Straight Line | Z52: Semi-Annual in Advance | AD52: 185000 | AE52: 185000 | AF52: 0 | AG52: 0 | AH52: N/A | AI52: N/A | AJ52: Yes | AK52: Semi-Annual | AL52: 2025-02-07 | AM52: INV-1007 | AN52: 46250 | AO52: Net 45 | AP52: 185000 | AQ52: =AD52-AP52 -> 0
A53: OPP-10014 | B53: LIC-TH-2024-774 | C53: Texas Health and Human Services Commission | D53: State Government | E53: EHR Platform License | F53: Closed Won | G53: New Business - License | H53: Yes | I53: 275000 | K53: 100 | L53: 2023-07-19 | M53: 2023-08-01 | N53: 2025-08-31 | O53: =DATEDIF(M53,N53,"m") -> 24 | P53: J. Alvarez | Q53: Closed | R53: Partner Referral | T53: 2023-05-09 | U53: 2023-07-19 | V53: ="FY"&YEAR(M53) -> FY2023 | W53: ="FY"&YEAR(N53) -> FY2025 | X53: License | Y53: Ratable - Straight Line | Z53: Annual in Advance | AD53: 275000 | AE53: 275000 | AF53: 0 | AG53: 0 | AH53: N/A | AI53: N/A | AJ53: Yes | AK53: Annual | AL53: 2024-08-19 | AM53: INV-1014 | AN53: 137500 | AO53: Net 45 | AP53: 275000 | AQ53: =AD53-AP53 -> 0
...

Sheet Construction in Progress - 1400
A1: Software, Construction in Progress (Account 1400) | D1: 2025-11-30
A2: ="As of "&TEXT(D1,"Mmmmmm")&" "&TEXT(D1,"dd")&", "&TEXT(D1,"YYYY")&"." -> As of November 30, 2025.
A3: Costs incurred to date for development projects not yet complete. Total Estimated Cost and Costs Incurred to Date drive the cost-to-cost percentage of completion used for revenue recognition on the corresponding grant contract. Once a project reaches 100% complete, its accumulated cost moves to the Capitalized Software tab and out of this account.
A5: Contract Number | B5: Product Name | C5: Funder | D5: Contract Amount | E5: Total Estimated Cost | F5: Costs Incurred to Date | G5: % Complete | H5: Contract Start Date | I5: Est. Contract End Date
A6: GRT-2024-3590 | B6: Community Health Worker Mobile App | C6: Robert Wood Johnson Foundation | D6: =INDEX('Contract Master List'!$A:$AQ,MATCH($A6,'Contract Master List'!$B:$B,0),MATCH(D$5,'Contract Master List'!$A$1:$AQ$1,0)) -> 420000 | E6: =INDEX('Contract Master List'!$A:$AQ,MATCH($A6,'Contract Master List'!$B:$B,0),MATCH(E$5,'Contract Master List'!$A$1:$AQ$1,0)) -> 274842.5 | F6: =INDEX('Contract Master List'!$A:$AQ,MATCH($A6,'Contract Master List'!$B:$B,0),MATCH(F$5,'Contract Master List'!$A$1:$AQ$1,0)) -> 253624.66 | G6: =F6/E6 -> 0.9228 | H6: =INDEX('Contract Master List'!$A:$AQ,MATCH($A6,'Contract Master List'!$B:$B,0),MATCH(H$5,'Contract Master List'!$A$1:$AQ$1,0)) -> 2024-06-01 | I6: =INDEX('Contract Master List'!$A:$AQ,MATCH($A6,'Contract Master List'!$B:$B,0),MATCH("Contract End Date",'Contract Master List'!$A$1:$AQ$1,0)) -> 2025-12-31
A7: GRT-2024-6563 | B7: Social Determinants of Health Module | C7: Susan and Michael Dell Foundation | D7: =INDEX('Contract Master List'!$A:$AQ,MATCH($A7,'Contract Master List'!$B:$B,0),MATCH(D$5,'Contract Master List'!$A$1:$AQ$1,0)) -> 420000 | E7: =INDEX('Contract Master List'!$A:$AQ,MATCH($A7,'Contract Master List'!$B:$B,0),MATCH(E$5,'Contract Master List'!$A$1:$AQ$1,0)) -> 270454.21 | F7: =INDEX('Contract Master List'!$A:$AQ,MATCH($A7,'Contract Master List'!$B:$B,0),MATCH(F$5,'Contract Master List'!$A$1:$AQ$1,0)) -> 166058.88 | G7: =F7/E7 -> 0.61399998 | H7: =INDEX('Contract Master List'!$A:$AQ,MATCH($A7,'Contract Master List'!$B:$B,0),MATCH(H$5,'Contract Master List'!$A$1:$AQ$1,0)) -> 2023-11-01 | I7: =INDEX('Contract Master List'!$A:$AQ,MATCH($A7,'Contract Master List'!$B:$B,0),MATCH("Contract End Date",'Contract Master List'!$A$1:$AQ$1,0)) -> 2026-11-30
A8: GRT-2024-8146 | B8: Social Determinants of Health Module | C8: Commonwealth Fund | D8: =INDEX('Contract Master List'!$A:$AQ,MATCH($A8,'Contract Master List'!$B:$B,0),MATCH(D$5,'Contract Master List'!$A$1:$AQ$1,0)) -> 1200000 | E8: =INDEX('Contract Master List'!$A:$AQ,MATCH($A8,'Contract Master List'!$B:$B,0),MATCH(E$5,'Contract Master List'!$A$1:$AQ$1,0)) -> 848474.43 | F8: =INDEX('Contract Master List'!$A:$AQ,MATCH($A8,'Contract Master List'!$B:$B,0),MATCH(F$5,'Contract Master List'!$A$1:$AQ$1,0)) -> 715942.72 | G8: =F8/E8 -> 0.8438 | H8: =INDEX('Contract Master List'!$A:$AQ,MATCH($A8,'Contract Master List'!$B:$B,0),MATCH(H$5,'Contract Master List'!$A$1:$AQ$1,0)) -> 2024-01-01 | I8: =INDEX('Contract Master List'!$A:$AQ,MATCH($A8,'Contract Master List'!$B:$B,0),MATCH("Contract End Date",'Contract Master List'!$A$1:$AQ$1,0)) -> 2026-01-31
A9: GRT-2024-2291 | B9: Community Health Worker Mobile App | C9: Commonwealth Fund | D9: =INDEX('Contract Master List'!$A:$AQ,MATCH($A9,'Contract Master List'!$B:$B,0),MATCH(D$5,'Contract Master List'!$A$1:$AQ$1,0)) -> 150000 | E9: =INDEX('Contract Master List'!$A:$AQ,MATCH($A9,'Contract Master List'!$B:$B,0),MATCH(E$5,'Contract Master List'!$A$1:$AQ$1,0)) -> 107496.18 | F9: =INDEX('Contract Master List'!$A:$AQ,MATCH($A9,'Contract Master List'!$B:$B,0),MATCH(F$5,'Contract Master List'!$A$1:$AQ$1,0)) -> 78257.22 | G9: =F9/E9 -> 0.72800001 | H9: =INDEX('Contract Master List'!$A:$AQ,MATCH($A9,'Contract Master List'!$B:$B,0),MATCH(H$5,'Contract Master List'!$A$1:$AQ$1,0)) -> 2024-05-01 | I9: =INDEX('Contract Master List'!$A:$AQ,MATCH($A9,'Contract Master List'!$B:$B,0),MATCH("Contract End Date",'Contract Master List'!$A$1:$AQ$1,0)) -> 2026-05-31
A10: GRT-2024-5176 | B10: Social Determinants of Health Module | C10: Kresge Foundation | D10: =INDEX('Contract Master List'!$A:$AQ,MATCH($A10,'Contract Master List'!$B:$B,0),MATCH(D$5,'Contract Master List'!$A$1:$AQ$1,0)) -> 850000 | E10: =INDEX('Contract Master List'!$A:$AQ,MATCH($A10,'Contract Master List'!$B:$B,0),MATCH(E$5,'Contract Master List'!$A$1:$AQ$1,0)) -> 585997.51 | F10: =INDEX('Contract Master List'!$A:$AQ,MATCH($A10,'Contract Master List'!$B:$B,0),MATCH(F$5,'Contract Master List'!$A$1:$AQ$1,0)) -> 356755.28 | G10: =F10/E10 -> 0.60879999 | H10: =INDEX('Contract Master List'!$A:$AQ,MATCH($A10,'Contract Master List'!$B:$B,0),MATCH(H$5,'Contract Master List'!$A$1:$AQ$1,0)) -> 2024-07-01 | I10: =INDEX('Contract Master List'!$A:$AQ,MATCH($A10,'Contract Master List'!$B:$B,0),MATCH("Contract End Date",'Contract Master List'!$A$1:$AQ$1,0)) -> 2026-07-31
A11: GRT-2025-9598 | B11: Immunization Tracking Extension | C11: Susan and Michael Dell Foundation | D11: =INDEX('Contract Master List'!$A:$AQ,MATCH($A11,'Contract Master List'!$B:$B,0),MATCH(D$5,'Contract Master List'!$A$1:$AQ$1,0)) -> 420000 | E11: =INDEX('Contract Master List'!$A:$AQ,MATCH($A11,'Contract Master List'!$B:$B,0),MATCH(E$5,'Contract Master List'!$A$1:$AQ$1,0)) -> 284808.52 | F11: =INDEX('Contract Master List'!$A:$AQ,MATCH($A11,'Contract Master List'!$B:$B,0),MATCH(F$5,'Contract Master List'!$A$1:$AQ$1,0)) -> 193612.83 | G11: =F11/E11 -> 0.67979999 | H11: =INDEX('Contract Master List'!$A:$AQ,MATCH($A11,'Contract Master List'!$B:$B,0),MATCH(H$5,'Contract Master List'!$A$1:$AQ$1,0)) -> 2024-08-01 | I11: =INDEX('Contract Master List'!$A:$AQ,MATCH($A11,'Contract Master List'!$B:$B,0),MATCH("Contract End Date",'Contract Master List'!$A$1:$AQ$1,0)) -> 2026-07-31
A12: GRT-2025-5752 | B12: Behavioral Health Data Exchange | C12: Susan and Michael Dell Foundation | D12: =INDEX('Contract Master List'!$A:$AQ,MATCH($A12,'Contract Master List'!$B:$B,0),MATCH(D$5,'Contract Master List'!$A$1:$AQ$1,0)) -> 850000 | E12: =INDEX('Contract Master List'!$A:$AQ,MATCH($A12,'Contract Master List'!$B:$B,0),MATCH(E$5,'Contract Master List'!$A$1:$AQ$1,0)) -> 559279.37 | F12: =INDEX('Contract Master List'!$A:$AQ,MATCH($A12,'Contract Master List'!$B:$B,0),MATCH(F$5,'Contract Master List'!$A$1:$AQ$1,0)) -> 348766.62 | G12: =F12/E12 -> 0.62360001 | H12: =INDEX('Contract Master List'!$A:$AQ,MATCH($A12,'Contract Master List'!$B:$B,0),MATCH(H$5,'Contract Master List'!$A$1:$AQ$1,0)) -> 2024-08-01 | I12: =INDEX('Contract Master List'!$A:$AQ,MATCH($A12,'Contract Master List'!$B:$B,0),MATCH("Contract End Date",'Contract Master List'!$A$1:$AQ$1,0)) -> 2026-08-31
A13: GRT-2025-3112 | B13: Immunization Tracking Extension | C13: Susan and Michael Dell Foundation | D13: =INDEX('Contract Master List'!$A:$AQ,MATCH($A13,'Contract Master List'!$B:$B,0),MATCH(D$5,'Contract Master List'!$A$1:$AQ$1,0)) -> 850000 | E13: =INDEX('Contract Master List'!$A:$AQ,MATCH($A13,'Contract Master List'!$B:$B,0),MATCH(E$5,'Contract Master List'!$A$1:$AQ$1,0)) -> 590016.53 | F13: =INDEX('Contract Master List'!$A:$AQ,MATCH($A13,'Contract Master List'!$B:$B,0),MATCH(F$5,'Contract Master List'!$A$1:$AQ$1,0)) -> 282145.9 | G13: =F13/E13 -> 0.47819999 | H13: =INDEX('Contract Master List'!$A:$AQ,MATCH($A13,'Contract Master List'!$B:$B,0),MATCH(H$5,'Contract Master List'!$A$1:$AQ$1,0)) -> 2024-10-01 | I13: =INDEX('Contract Master List'!$A:$AQ,MATCH($A13,'Contract Master List'!$B:$B,0),MATCH("Contract End Date",'Contract Master List'!$A$1:$AQ$1,0)) -> 2026-10-31
A14: GRT-2025-8202 | B14: Social Determinants of Health Module | C14: Commonwealth Fund | D14: =INDEX('Contract Master List'!$A:$AQ,MATCH($A14,'Contract Master List'!$B:$B,0),MATCH(D$5,'Contract Master List'!$A$1:$AQ$1,0)) -> 420000 | E14: =INDEX('Contract Master List'!$A:$AQ,MATCH($A14,'Contract Master List'!$B:$B,0),MATCH(E$5,'Contract Master List'!$A$1:$AQ$1,0)) -> 282528.69 | F14: =INDEX('Contract Master List'!$A:$AQ,MATCH($A14,'Contract Master List'!$B:$B,0),MATCH(F$5,'Contract Master List'!$A$1:$AQ$1,0)) -> 150644.3 | G14: =F14/E14 -> 0.53320001 | H14: =INDEX('Contract Master List'!$A:$AQ,MATCH($A14,'Contract Master List'!$B:$B,0),MATCH(H$5,'Contract Master List'!$A$1:$AQ$1,0)) -> 2025-06-01 | I14: =INDEX('Contract Master List'!$A:$AQ,MATCH($A14,'Contract Master List'!$B:$B,0),MATCH("Contract End Date",'Contract Master List'!$A$1:$AQ$1,0)) -> 2026-06-30
A15: GRT-2025-3096 | B15: EHR Interoperability Module | C15: Commonwealth Fund | D15: =INDEX('Contract Master List'!$A:$AQ,MATCH($A15,'Contract Master List'!$B:$B,0),MATCH(D$5,'Contract Master List'!$A$1:$AQ$1,0)) -> 420000 | E15: =INDEX('Contract Master List'!$A:$AQ,MATCH($A15,'Contract Master List'!$B:$B,0),MATCH(E$5,'Contract Master List'!$A$1:$AQ$1,0)) -> 270604.72 | F15: =INDEX('Contract Master List'!$A:$AQ,MATCH($A15,'Contract Master List'!$B:$B,0),MATCH(F$5,'Contract Master List'!$A$1:$AQ$1,0)) -> 105156.99 | G15: =F15/E15 -> 0.38859998 | H15: =INDEX('Contract Master List'!$A:$AQ,MATCH($A15,'Contract Master List'!$B:$B,0),MATCH(H$5,'Contract Master List'!$A$1:$AQ$1,0)) -> 2025-03-01 | I15: =INDEX('Contract Master List'!$A:$AQ,MATCH($A15,'Contract Master List'!$B:$B,0),MATCH("Contract End Date",'Contract Master List'!$A$1:$AQ$1,0)) -> 2026-09-30
A16: GRT-2026-2620 | B16: Immunization Tracking Extension | C16: Bill & Melinda Gates Foundation | D16: =INDEX('Contract Master List'!$A:$AQ,MATCH($A16,'Contract Master List'!$B:$B,0),MATCH(D$5,'Contract Master List'!$A$1:$AQ$1,0)) -> 1200000 | E16: =INDEX('Contract Master List'!$A:$AQ,MATCH($A16,'Contract Master List'!$B:$B,0),MATCH(E$5,'Contract Master List'!$A$1:$AQ$1,0)) -> 856451.43 | F16: =INDEX('Contract Master List'!$A:$AQ,MATCH($A16,'Contract Master List'!$B:$B,0),MATCH(F$5,'Contract Master List'!$A$1:$AQ$1,0)) -> 53099.99 | G16: =F16/E16 -> 0.062000002 | H16: =INDEX('Contract Master List'!$A:$AQ,MATCH($A16,'Contract Master List'!$B:$B,0),MATCH(H$5,'Contract Master List'!$A$1:$AQ$1,0)) -> 2025-10-01 | I16: =INDEX('Contract Master List'!$A:$AQ,MATCH($A16,'Contract Master List'!$B:$B,0),MATCH("Contract End Date",'Contract Master List'!$A$1:$AQ$1,0)) -> 2026-10-31
A17: GRT-2025-2807 | B17: Rural Clinic Data Platform | C17: Bill & Melinda Gates Foundation | D17: =INDEX('Contract Master List'!$A:$AQ,MATCH($A17,'Contract Master List'!$B:$B,0),MATCH(D$5,'Contract Master List'!$A$1:$AQ$1,0)) -> 310000 | E17: =INDEX('Contract Master List'!$A:$AQ,MATCH($A17,'Contract Master List'!$B:$B,0),MATCH(E$5,'Contract Master List'!$A$1:$AQ$1,0)) -> 200247.26 | F17: =INDEX('Contract Master List'!$A:$AQ,MATCH($A17,'Contract Master List'!$B:$B,0),MATCH(F$5,'Contract Master List'!$A$1:$AQ$1,0)) -> 83002.49 | G17: =F17/E17 -> 0.4145 | H17: =INDEX('Contract Master List'!$A:$AQ,MATCH($A17,'Contract Master List'!$B:$B,0),MATCH(H$5,'Contract Master List'!$A$1:$AQ$1,0)) -> 2024-08-01 | I17: =INDEX('Contract Master List'!$A:$AQ,MATCH($A17,'Contract Master List'!$B:$B,0),MATCH("Contract End Date",'Contract Master List'!$A$1:$AQ$1,0)) -> 2027-08-31
... A28: GRT-2026-6028 | B28: Maternal Health Registry | C28: The California Endowment | D28: =INDEX('Contract Master List'!$A:$AQ,MATCH($A28,'Contract Master List'!$B:$B,0),MATCH(D$5,'Contract Master List'!$A$1:$AQ$1,0)) -> 220000 | E28: =INDEX('Contract Master List'!$A:$AQ,MATCH($A28,'Contract Master List'!$B:$B,0),MATCH(E$5,'Contract Master List'!$A$1:$AQ$1,0)) -> 153156.29 | F28: =INDEX('Contract Master List'!$A:$AQ,MATCH($A28,'Contract Master List'!$B:$B,0),MATCH(F$5,'Contract Master List'!$A$1:$AQ$1,0)) -> 765.78 | G28: =F28/E28 -> 0.0049999905 | H28: =INDEX('Contract Master List'!$A:$AQ,MATCH($A28,'Contract Master List'!$B:$B,0),MATCH(H$5,'Contract Master List'!$A$1:$AQ$1,0)) -> 2025-10-01 | I28: =INDEX('Contract Master List'!$A:$AQ,MATCH($A28,'Contract Master List'!$B:$B,0),MATCH("Contract End Date",'Contract Master List'!$A$1:$AQ$1,0)) -> 2028-10-31
B29: Total - Ending Balance, Account 1400 | F29: =SUM(F6:F28) -> 2990668.4

Sheet Capitalized Software - 1410
A1: Capitalized Software (Account 1410) | D1: 2025-11-30
A2: ="As of "&TEXT(D1,"Mmmmmm")&" "&TEXT(D1,"dd")&", "&TEXT(D1,"YYYY")&"." -> As of November 30, 2025.
A3: Development projects that reached 100% completion. Capitalized Cost equals the project's final Costs Incurred to Date from the Construction in Progress tab -- moved here upon completion. In-Service Date is the date the software was placed into service, which begins straight-line amortization on the Depreciation Schedule tab (5-year useful life).
A5: Contract Number | B5: Product Name | C5: Funder | D5: Contract Amount | E5: Capitalized Cost | F5: In-Service Date | G5: Useful Life (Years) | H5: Source
A6: GRT-2024-2172 | B6: Maternal Health Registry | C6: Susan and Michael Dell Foundation | D6: =INDEX('Contract Master List'!$A:$AQ,MATCH($A6,'Contract Master List'!$B:$B,0),MATCH(D$5,'Contract Master List'!$A$1:$AQ$1,0)) -> 850000 | E6: =INDEX('Contract Master List'!$A:$AQ,MATCH('Capitalized Software - 1410'!$A6,'Contract Master List'!$B:$B,0),MATCH("Costs Incurred to Date",'Contract Master List'!$A$1:$AQ$1,0)) -> 591964.01 | F6: 2024-09-04 | G6: 5 | H6: Moved from Construction in Progress upon completion
A7: GRT-2024-1802 | B7: Immunization Tracking Extension | C7: Kresge Foundation | D7: =INDEX('Contract Master List'!$A:$AQ,MATCH('Capitalized Software - 1410'!$A7,'Contract Master List'!$B:$B,0),MATCH('Capitalized Software - 1410'!D$5,'Contract Master List'!$A$1:$AQ$1,0)) -> 220000 | E7: =INDEX('Contract Master List'!$A:$AQ,MATCH('Capitalized Software - 1410'!$A7,'Contract Master List'!$B:$B,0),MATCH("Costs Incurred to Date",'Contract Master List'!$A$1:$AQ$1,0)) -> 155457.3 | F7: 2025-03-21 | G7: 5 | H7: Moved from Construction in Progress upon completion
A8: GRT-2024-7630 | B8: School Health Records Integration | C8: Susan and Michael Dell Foundation | D8: =INDEX('Contract Master List'!$A:$AQ,MATCH('Capitalized Software - 1410'!$A8,'Contract Master List'!$B:$B,0),MATCH('Capitalized Software - 1410'!D$5,'Contract Master List'!$A$1:$AQ$1,0)) -> 220000 | E8: =INDEX('Contract Master List'!$A:$AQ,MATCH('Capitalized Software - 1410'!$A8,'Contract Master List'!$B:$B,0),MATCH("Costs Incurred to Date",'Contract Master List'!$A$1:$AQ$1,0)) -> 158330.34 | F8: 2025-08-24 | G8: 5 | H8: Moved from Construction in Progress upon completion
A9: GRT-2024-5287 | B9: Behavioral Health Data Exchange | C9: Susan and Michael Dell Foundation | D9: =INDEX('Contract Master List'!$A:$AQ,MATCH('Capitalized Software - 1410'!$A9,'Contract Master List'!$B:$B,0),MATCH('Capitalized Software - 1410'!D$5,'Contract Master List'!$A$1:$AQ$1,0)) -> 220000 | E9: =INDEX('Contract Master List'!$A:$AQ,MATCH('Capitalized Software - 1410'!$A9,'Contract Master List'!$B:$B,0),MATCH("Costs Incurred to Date",'Contract Master List'!$A$1:$AQ$1,0)) -> 141817.21 | F9: 2025-08-16 | G9: 5 | H9: Moved from Construction in Progress upon completion
A10: GRT-2024-3636 | B10: Community Health Worker Mobile App | C10: Kresge Foundation | D10: =INDEX('Contract Master List'!$A:$AQ,MATCH('Capitalized Software - 1410'!$A10,'Contract Master List'!$B:$B,0),MATCH('Capitalized Software - 1410'!D$5,'Contract Master List'!$A$1:$AQ$1,0)) -> 220000 | E10: =INDEX('Contract Master List'!$A:$AQ,MATCH('Capitalized Software - 1410'!$A10,'Contract Master List'!$B:$B,0),MATCH("Costs Incurred to Date",'Contract Master List'!$A$1:$AQ$1,0)) -> 152216.29 | F10: 2025-05-25 | G10: 5 | H10: Moved from Construction in Progress upon completion
A11: GRT-2025-2752 | B11: Community Health Worker Mobile App | C11: The California Endowment | D11: =INDEX('Contract Master List'!$A:$AQ,MATCH('Capitalized Software - 1410'!$A11,'Contract Master List'!$B:$B,0),MATCH('Capitalized Software - 1410'!D$5,'Contract Master List'!$A$1:$AQ$1,0)) -> 420000 | E11: =INDEX('Contract Master List'!$A:$AQ,MATCH('Capitalized Software - 1410'!$A11,'Contract Master List'!$B:$B,0),MATCH("Costs Incurred to Date",'Contract Master List'!$A$1:$AQ$1,0)) -> 291931.94 | F11: 2025-10-04 | G11: 5 | H11: Moved from Construction in Progress upon completion
B12: Total - Ending Balance, Account 1410 | E12: =SUM(E6:E11) -> 1491717.1

Sheet Software Depreciation - 1420
A1: Capitalized Software Amortization Schedule (Account 1420) | D1: 2025-11-30
A2: Straight-Line, 5-Year Useful Life
A3: ="Annual amortization = Capitalized Cost / 5 years, straight-line from the In-Service Date (pulled from the Capitalized Software tab). Accumulated Amortization and Net Book Value are shown as of "&TEXT(D1,"Mmmmmm")&" "&TEXT(D1,"dd")&", "&TEXT(D1,"YYYY")&"." -> Annual amortization = Capitalized Cost / 5 years, straight-line from the In-Service Date (pulled from the Capitalized Software tab). Accumulated Amortization and Net Book Value are shown as of November 30, 2025.
A5: Contract Number | B5: Product Name | C5: Capitalized Cost | D5: Useful Life (Years) | E5: In-Service Date | F5: Annual Amortization | G5: Monthly Amortization | H5: Months Elapsed | I5: Accumulated Amortization | J5: Net Book Value
A6: ='Capitalized Software - 1410'!A6 -> GRT-2024-2172 | B6: ='Capitalized Software - 1410'!B6 -> Maternal Health Registry | C6: ='Capitalized Software - 1410'!E6 -> 591964.01 | D6: ='Capitalized Software - 1410'!G6 -> 5 | E6: 2024-09-30 | F6: =C6/D6 -> 118392.8 | G6: =F6/12 -> 9866.0668 | H6: =(YEAR($D$1)-YEAR(E6))*12+(MONTH($D$1)-MONTH(E6)) -> 14 | I6: =MIN(H6,D6*12)*G6 -> 138124.94 | J6: =C6-I6 -> 453839.07
A7: ='Capitalized Software - 1410'!A7 -> GRT-2024-1802 | B7: ='Capitalized Software - 1410'!B7 -> Immunization Tracking Extension | C7: ='Capitalized Software - 1410'!E7 -> 155457.3 | D7: ='Capitalized Software - 1410'!G7 -> 5 | E7: 2025-03-31 | F7: =C7/D7 -> 31091.46 | G7: =F7/12 -> 2590.955 | H7: =(YEAR($D$1)-YEAR(E7))*12+(MONTH($D$1)-MONTH(E7)) -> 8 | I7: =MIN(H7,D7*12)*G7 -> 20727.64 | J7: =C7-I7 -> 134729.66
A8: ='Capitalized Software - 1410'!A8 -> GRT-2024-7630 | B8: ='Capitalized Software - 1410'!B8 -> School Health Records Integration | C8: ='Capitalized Software - 1410'!E8 -> 158330.34 | D8: ='Capitalized Software - 1410'!G8 -> 5 | E8: 2025-08-31 | F8: =C8/D8 -> 31666.068 | G8: =F8/12 -> 2638.839 | H8: =(YEAR($D$1)-YEAR(E8))*12+(MONTH($D$1)-MONTH(E8)) -> 3 | I8: =MIN(H8,D8*12)*G8 -> 7916.517 | J8: =C8-I8 -> 150413.82
A9: ='Capitalized Software - 1410'!A9 -> GRT-2024-5287 | B9: ='Capitalized Software - 1410'!B9 -> Behavioral Health Data Exchange | C9: ='Capitalized Software - 1410'!E9 -> 141817.21 | D9: ='Capitalized Software - 1410'!G9 -> 5 | E9: 2025-08-31 | F9: =C9/D9 -> 28363.442 | G9: =F9/12 -> 2363.6202 | H9: =(YEAR($D$1)-YEAR(E9))*12+(MONTH($D$1)-MONTH(E9)) -> 3 | I9: =MIN(H9,D9*12)*G9 -> 7090.8605 | J9: =C9-I9 -> 134726.35
A10: ='Capitalized Software - 1410'!A10 -> GRT-2024-3636 | B10: ='Capitalized Software - 1410'!B10 -> Community Health Worker Mobile App | C10: ='Capitalized Software - 1410'!E10 -> 152216.29 | D10: ='Capitalized Software - 1410'!G10 -> 5 | E10: 2025-05-31 | F10: =C10/D10 -> 30443.258 | G10: =F10/12 -> 2536.9382 | H10: =(YEAR($D$1)-YEAR(E10))*12+(MONTH($D$1)-MONTH(E10)) -> 6 | I10: =MIN(H10,D10*12)*G10 -> 15221.629 | J10: =C10-I10 -> 136994.66
A11: ='Capitalized Software - 1410'!A11 -> GRT-2025-2752 | B11: ='Capitalized Software - 1410'!B11 -> Community Health Worker Mobile App | C11: ='Capitalized Software - 1410'!E11 -> 291931.94 | D11: ='Capitalized Software - 1410'!G11 -> 5 | E11: 2025-10-31 | F11: =C11/D11 -> 58386.388 | G11: =F11/12 -> 4865.5323 | H11: =(YEAR($D$1)-YEAR(E11))*12+(MONTH($D$1)-MONTH(E11)) -> 1 | I11: =MIN(H11,D11*12)*G11 -> 4865.5323 | J11: =C11-I11 -> 287066.41
B12: Total | C12: =SUM(C6:C11) -> 1491717.1 | I12: =SUM(I6:I11) -> 193947.11 | J12: =SUM(J6:J11) -> 1297770
